BEGIN:VCALENDAR
VERSION:2.0
PRODID:-//LibreRegistration//EN
BEGIN:VEVENT
UID:00000000-0000-4000-8000-000000001743@libreregistration
DTSTAMP:20260424T074325Z
DTSTART:20090319T000000Z
DTEND:20090319T020000Z
SUMMARY:Qjelt — 19/03/2009
END:VEVENT
END:VCALENDAR
