BEGIN:VCALENDAR
VERSION:2.0
PRODID:-//LibreRegistration//EN
BEGIN:VEVENT
UID:00000000-0000-4000-8000-000000001718@libreregistration
DTSTAMP:20260424T073942Z
DTSTART:20090307T000000Z
DTEND:20090307T020000Z
SUMMARY:Mao Linux — 07/03/2009
END:VEVENT
END:VCALENDAR
