BEGIN:VCALENDAR
VERSION:2.0
PRODID:-//LibreRegistration//EN
BEGIN:VEVENT
UID:00000000-0000-4000-8000-000000001693@libreregistration
DTSTAMP:20260424T074502Z
DTSTART:20090228T000000Z
DTEND:20090228T020000Z
SUMMARY:Atelier Kde — 28/02/2009
END:VEVENT
END:VCALENDAR
