BEGIN:VCALENDAR
VERSION:2.0
PRODID:-//LibreRegistration//EN
BEGIN:VEVENT
UID:00000000-0000-4000-8000-000000001664@libreregistration
DTSTAMP:20260424T074445Z
DTSTART:20090131T000000Z
DTEND:20090131T020000Z
SUMMARY:Atelier Kde — 31/01/2009
END:VEVENT
END:VCALENDAR
