BEGIN:VCALENDAR
VERSION:2.0
PRODID:-//LibreRegistration//EN
BEGIN:VEVENT
UID:00000000-0000-4000-8000-000000001609@libreregistration
DTSTAMP:20260424T074249Z
DTSTART:20090129T000000Z
DTEND:20090129T020000Z
SUMMARY:Qjelt — 29/01/2009
END:VEVENT
END:VCALENDAR
