BEGIN:VCALENDAR
VERSION:2.0
PRODID:-//LibreRegistration//EN
BEGIN:VEVENT
UID:00000000-0000-4000-8000-000000001590@libreregistration
DTSTAMP:20260424T074445Z
DTSTART:20081213T000000Z
DTEND:20081213T020000Z
SUMMARY:Atelier Kde — 13/12/2008
END:VEVENT
END:VCALENDAR
