BEGIN:VCALENDAR
VERSION:2.0
PRODID:-//LibreRegistration//EN
BEGIN:VEVENT
UID:00000000-0000-4000-8000-000000001571@libreregistration
DTSTAMP:20260424T074446Z
DTSTART:20081129T000000Z
DTEND:20081129T020000Z
SUMMARY:Atelier Kde — 29/11/2008
END:VEVENT
END:VCALENDAR
