BEGIN:VCALENDAR
VERSION:2.0
PRODID:-//LibreRegistration//EN
BEGIN:VEVENT
UID:00000000-0000-4000-8000-000000001497@libreregistration
DTSTAMP:20260424T074208Z
DTSTART:20081125T000000Z
DTEND:20081125T020000Z
SUMMARY:Blender — 25/11/2008
END:VEVENT
END:VCALENDAR
