BEGIN:VCALENDAR
VERSION:2.0
PRODID:-//LibreRegistration//EN
BEGIN:VEVENT
UID:00000000-0000-4000-8000-000000001546@libreregistration
DTSTAMP:20260424T074347Z
DTSTART:20081120T000000Z
DTEND:20081120T020000Z
SUMMARY:Qjelt — 20/11/2008
END:VEVENT
END:VCALENDAR
