BEGIN:VCALENDAR
VERSION:2.0
PRODID:-//LibreRegistration//EN
BEGIN:VEVENT
UID:00000000-0000-4000-8000-000000001451@libreregistration
DTSTAMP:20260424T074347Z
DTSTART:20081016T000000Z
DTEND:20081016T020000Z
SUMMARY:Qjelt — 16/10/2008
END:VEVENT
END:VCALENDAR
