BEGIN:VCALENDAR
VERSION:2.0
PRODID:-//LibreRegistration//EN
BEGIN:VEVENT
UID:00000000-0000-4000-8000-000000001404@libreregistration
DTSTAMP:20260424T074400Z
DTSTART:20080918T000000Z
DTEND:20080918T020000Z
SUMMARY:Qjelt — 18/09/2008
END:VEVENT
END:VCALENDAR
