BEGIN:VCALENDAR
VERSION:2.0
PRODID:-//LibreRegistration//EN
BEGIN:VEVENT
UID:00000000-0000-4000-8000-000000001299@libreregistration
DTSTAMP:20260424T074359Z
DTSTART:20080627T000000Z
DTEND:20080627T020000Z
SUMMARY:Soiree Blender — 27/06/2008
END:VEVENT
END:VCALENDAR
