BEGIN:VCALENDAR
VERSION:2.0
PRODID:-//LibreRegistration//EN
BEGIN:VEVENT
UID:00000000-0000-4000-8000-000000001264@libreregistration
DTSTAMP:20260424T074249Z
DTSTART:20080522T000000Z
DTEND:20080522T020000Z
SUMMARY:Qjelt — 22/05/2008
END:VEVENT
END:VCALENDAR
