BEGIN:VCALENDAR
VERSION:2.0
PRODID:-//LibreRegistration//EN
BEGIN:VEVENT
UID:00000000-0000-4000-8000-000000001176@libreregistration
DTSTAMP:20260424T074347Z
DTSTART:20080514T000000Z
DTEND:20080514T020000Z
SUMMARY:Prez Asso — 14/05/2008
END:VEVENT
END:VCALENDAR
