BEGIN:VCALENDAR
VERSION:2.0
PRODID:-//LibreRegistration//EN
BEGIN:VEVENT
UID:00000000-0000-4000-8000-000000001149@libreregistration
DTSTAMP:20260424T073941Z
DTSTART:20080319T000000Z
DTEND:20080319T020000Z
SUMMARY:Atelier Shell — 19/03/2008
END:VEVENT
END:VCALENDAR
