BEGIN:VCALENDAR
VERSION:2.0
PRODID:-//LibreRegistration//EN
BEGIN:VEVENT
UID:00000000-0000-4000-8000-000000001120@libreregistration
DTSTAMP:20260424T074325Z
DTSTART:20080228T000000Z
DTEND:20080228T020000Z
SUMMARY:Qjelt — 28/02/2008
END:VEVENT
END:VCALENDAR
