BEGIN:VCALENDAR
VERSION:2.0
PRODID:-//LibreRegistration//EN
BEGIN:VEVENT
UID:00000000-0000-4000-8000-000000001111@libreregistration
DTSTAMP:20260424T074249Z
DTSTART:20071220T000000Z
DTEND:20071220T020000Z
SUMMARY:Qjelt — 20/12/2007
END:VEVENT
END:VCALENDAR
