BEGIN:VCALENDAR
VERSION:2.0
PRODID:-//LibreRegistration//EN
BEGIN:VEVENT
UID:00000000-0000-4000-8000-000000001025@libreregistration
DTSTAMP:20260424T091113Z
DTSTART:20071122T000000Z
DTEND:20071122T020000Z
SUMMARY:Qjelt — 22/11/2007
END:VEVENT
END:VCALENDAR
