BEGIN:VCALENDAR
VERSION:2.0
PRODID:-//LibreRegistration//EN
BEGIN:VEVENT
UID:00000000-0000-4000-8000-000000001080@libreregistration
DTSTAMP:20260424T093244Z
DTSTART:20071114T000000Z
DTEND:20071114T020000Z
SUMMARY:Atelier Blender — 14/11/2007
END:VEVENT
END:VCALENDAR
