BEGIN:VCALENDAR
VERSION:2.0
PRODID:-//LibreRegistration//EN
BEGIN:VEVENT
UID:00000000-0000-4000-8000-000000001004@libreregistration
DTSTAMP:20260424T090300Z
DTSTART:20071025T000000Z
DTEND:20071025T020000Z
SUMMARY:Qjelt — 25/10/2007
END:VEVENT
END:VCALENDAR
