BEGIN:VCALENDAR
VERSION:2.0
PRODID:-//LibreRegistration//EN
BEGIN:VEVENT
UID:00000000-0000-4000-8000-000000000981@libreregistration
DTSTAMP:20260424T093044Z
DTSTART:20070927T000000Z
DTEND:20070927T020000Z
SUMMARY:Qjelt — 27/09/2007
END:VEVENT
END:VCALENDAR
