BEGIN:VCALENDAR
VERSION:2.0
PRODID:-//LibreRegistration//EN
BEGIN:VEVENT
UID:00000000-0000-4000-8000-000000000946@libreregistration
DTSTAMP:20260424T092915Z
DTSTART:20070531T000000Z
DTEND:20070531T020000Z
SUMMARY:Qjelt — 31/05/2007
END:VEVENT
END:VCALENDAR
