BEGIN:VCALENDAR
VERSION:2.0
PRODID:-//LibreRegistration//EN
BEGIN:VEVENT
UID:00000000-0000-4000-8000-000000000911@libreregistration
DTSTAMP:20260424T092141Z
DTSTART:20070426T000000Z
DTEND:20070426T020000Z
SUMMARY:Qjelt — 26/04/2007
END:VEVENT
END:VCALENDAR
