BEGIN:VCALENDAR
VERSION:2.0
PRODID:-//LibreRegistration//EN
BEGIN:VEVENT
UID:00000000-0000-4000-8000-000000000884@libreregistration
DTSTAMP:20260424T092340Z
DTSTART:20070329T000000Z
DTEND:20070329T020000Z
SUMMARY:Qjelt — 29/03/2007
END:VEVENT
END:VCALENDAR
