BEGIN:VCALENDAR
VERSION:2.0
PRODID:-//LibreRegistration//EN
BEGIN:VEVENT
UID:00000000-0000-4000-8000-000000000845@libreregistration
DTSTAMP:20260424T091225Z
DTSTART:20070222T000000Z
DTEND:20070222T020000Z
SUMMARY:Qjelt — 22/02/2007
END:VEVENT
END:VCALENDAR
