BEGIN:VCALENDAR
VERSION:2.0
PRODID:-//LibreRegistration//EN
BEGIN:VEVENT
UID:00000000-0000-4000-8000-000000000804@libreregistration
DTSTAMP:20260424T091952Z
DTSTART:20070125T000000Z
DTEND:20070125T020000Z
SUMMARY:Qjelt — 25/01/2007
END:VEVENT
END:VCALENDAR
