BEGIN:VCALENDAR
VERSION:2.0
PRODID:-//LibreRegistration//EN
BEGIN:VEVENT
UID:00000000-0000-4000-8000-000000000757@libreregistration
DTSTAMP:20260424T092044Z
DTSTART:20061026T000000Z
DTEND:20061026T020000Z
SUMMARY:Qjelt — 26/10/2006
END:VEVENT
END:VCALENDAR
