BEGIN:VCALENDAR
VERSION:2.0
PRODID:-//LibreRegistration//EN
BEGIN:VEVENT
UID:00000000-0000-4000-8000-000000000702@libreregistration
DTSTAMP:20260424T093206Z
DTSTART:20060928T000000Z
DTEND:20060928T020000Z
SUMMARY:Qjelt — 28/09/2006
END:VEVENT
END:VCALENDAR
