BEGIN:VCALENDAR
VERSION:2.0
PRODID:-//LibreRegistration//EN
BEGIN:VEVENT
UID:00000000-0000-4000-8000-000000000651@libreregistration
DTSTAMP:20260424T093025Z
DTSTART:20060824T000000Z
DTEND:20060824T020000Z
SUMMARY:Qjelt — 24/08/2006
END:VEVENT
END:VCALENDAR
