BEGIN:VCALENDAR
VERSION:2.0
PRODID:-//LibreRegistration//EN
BEGIN:VEVENT
UID:00000000-0000-4000-8000-000000000606@libreregistration
DTSTAMP:20260424T093026Z
DTSTART:20060727T000000Z
DTEND:20060727T020000Z
SUMMARY:Qjelt — 27/07/2006
END:VEVENT
END:VCALENDAR
