BEGIN:VCALENDAR
VERSION:2.0
PRODID:-//LibreRegistration//EN
BEGIN:VEVENT
UID:00000000-0000-4000-8000-000000000561@libreregistration
DTSTAMP:20260424T091225Z
DTSTART:20060622T000000Z
DTEND:20060622T020000Z
SUMMARY:Qjelt — 22/06/2006
END:VEVENT
END:VCALENDAR
