BEGIN:VCALENDAR
VERSION:2.0
PRODID:-//LibreRegistration//EN
BEGIN:VEVENT
UID:00000000-0000-4000-8000-000000000448@libreregistration
DTSTAMP:20260424T093129Z
DTSTART:20060323T000000Z
DTEND:20060323T020000Z
SUMMARY:Qjelt — 23/03/2006
END:VEVENT
END:VCALENDAR
