BEGIN:VCALENDAR
VERSION:2.0
PRODID:-//LibreRegistration//EN
BEGIN:VEVENT
UID:00000000-0000-4000-8000-000000000397@libreregistration
DTSTAMP:20260424T092823Z
DTSTART:20060223T000000Z
DTEND:20060223T020000Z
SUMMARY:Qjelt — 23/02/2006
END:VEVENT
END:VCALENDAR
