BEGIN:VCALENDAR
VERSION:2.0
PRODID:-//LibreRegistration//EN
BEGIN:VEVENT
UID:00000000-0000-4000-8000-000000000344@libreregistration
DTSTAMP:20260424T093043Z
DTSTART:20060126T000000Z
DTEND:20060126T020000Z
SUMMARY:Qjelt — 26/01/2006
END:VEVENT
END:VCALENDAR
