BEGIN:VCALENDAR
VERSION:2.0
PRODID:-//LibreRegistration//EN
BEGIN:VEVENT
UID:00000000-0000-4000-8000-000000000307@libreregistration
DTSTAMP:20260424T090259Z
DTSTART:20051222T000000Z
DTEND:20051222T020000Z
SUMMARY:Qjelt — 22/12/2005
END:VEVENT
END:VCALENDAR
