BEGIN:VCALENDAR
VERSION:2.0
PRODID:-//LibreRegistration//EN
BEGIN:VEVENT
UID:00000000-0000-4000-8000-000000000242@libreregistration
DTSTAMP:20260424T091952Z
DTSTART:20051124T000000Z
DTEND:20051124T020000Z
SUMMARY:Qjelt — 24/11/2005
END:VEVENT
END:VCALENDAR
