BEGIN:VCALENDAR
VERSION:2.0
PRODID:-//LibreRegistration//EN
BEGIN:VEVENT
UID:00000000-0000-4000-8000-000000000086@libreregistration
DTSTAMP:20260424T092228Z
DTSTART:20050922T000000Z
DTEND:20050922T020000Z
SUMMARY:Qjelt — 22/09/2005
END:VEVENT
END:VCALENDAR
