BEGIN:VCALENDAR
VERSION:2.0
PRODID:-//LibreRegistration//EN
BEGIN:VEVENT
UID:00000000-0000-4000-8000-000000000001@libreregistration
DTSTAMP:20260424T092915Z
DTSTART:20050825T000000Z
DTEND:20050825T020000Z
SUMMARY:Qjelt — 25/08/2005
END:VEVENT
END:VCALENDAR
